BEGIN:VCALENDAR
VERSION:2.0
PRODID:-//Shrimp Festival: Fort Myers Beach Lions - ECPv6.15.20//NONSGML v1.0//EN
CALSCALE:GREGORIAN
METHOD:PUBLISH
X-WR-CALNAME:Shrimp Festival: Fort Myers Beach Lions
X-ORIGINAL-URL:https://fortmyersbeachshrimpfestival.com
X-WR-CALDESC:Events for Shrimp Festival: Fort Myers Beach Lions
REFRESH-INTERVAL;VALUE=DURATION:PT1H
X-Robots-Tag:noindex
X-PUBLISHED-TTL:PT1H
BEGIN:VTIMEZONE
TZID:America/New_York
BEGIN:DAYLIGHT
TZOFFSETFROM:-0500
TZOFFSETTO:-0400
TZNAME:EDT
DTSTART:20250309T070000
END:DAYLIGHT
BEGIN:STANDARD
TZOFFSETFROM:-0400
TZOFFSETTO:-0500
TZNAME:EST
DTSTART:20251102T060000
END:STANDARD
BEGIN:DAYLIGHT
TZOFFSETFROM:-0500
TZOFFSETTO:-0400
TZNAME:EDT
DTSTART:20260308T070000
END:DAYLIGHT
BEGIN:STANDARD
TZOFFSETFROM:-0400
TZOFFSETTO:-0500
TZNAME:EST
DTSTART:20261101T060000
END:STANDARD
BEGIN:DAYLIGHT
TZOFFSETFROM:-0500
TZOFFSETTO:-0400
TZNAME:EDT
DTSTART:20270314T070000
END:DAYLIGHT
BEGIN:STANDARD
TZOFFSETFROM:-0400
TZOFFSETTO:-0500
TZNAME:EST
DTSTART:20271107T060000
END:STANDARD
END:VTIMEZONE
BEGIN:VEVENT
DTSTART;TZID=America/New_York:20260228T080000
DTEND;TZID=America/New_York:20260228T120000
DTSTAMP:20260424T215304
CREATED:20171220T013548Z
LAST-MODIFIED:20260225T215349Z
UID:920-1772265600-1772280000@fortmyersbeachshrimpfestival.com
SUMMARY:2/28\, Kids Shrimp Run
DESCRIPTION:[vc_row][vc_column][vc_column_text] \n👟🌞 SHRIMP FESTIVAL KIDS RUN 🦐🌴\nKick off Shrimp Festival season with a fun\, feel-good fitness event just for kids! The Shrimp Festival Kids Run invites young runners in grades K–5 to take on a ½-mile out-and-back beach race at Crescent Beach Family Park\, where festival excitement\, island spirit\, and sandy smiles set the tone for the celebration ahead. \n🌴 Big Fun for Little RunnersEach grade will run in staggered starts beginning with 5th grade\, giving every child their moment to shine. The first 100 runners receive a free t-shirt and a free lunch at the Awards Ceremony — making this more than a race… it’s a core memory in the making. \n🎉 Awards\, Entertainment & Special GuestsAfter the run\, families are invited to celebrate at Sunset Terrace\, Margaritaville from 10:00 AM to 12:00 PM\, featuring awards\, live entertainment\, and appearances from The Bird Gardens of Naples and the Suncoast Pirates. Lunch will be served at 11:00 AM for qualifying participants. \n📌 Event DetailsCheck-in begins at 8:00 AM and the race starts at 8:30 AM. Online registration is now open. This event is proudly operated by Cypress Lake High School in partnership with the Fort Myers Beach Lions Shrimp Festival. \n🌺 Big smiles. Sandy shoes. Festival memories in the making. 🌺 \n[/vc_column_text][/vc_column][/vc_row]
URL:https://fortmyersbeachshrimpfestival.com/event/kids-shrimp-run/
CATEGORIES:Pre-festival Events
ATTACH;FMTTYPE=image/jpeg:https://fortmyersbeachshrimpfestival.com/wp-content/uploads/2017/12/17352081_885742291581116_4621106199655025796_n.jpg
ORGANIZER;CN="Betty Rodriguez":MAILTO:BettyR@leeschools.net
END:VEVENT
END:VCALENDAR