BEGIN:VCALENDAR
VERSION:2.0
PRODID:-//Shrimp Festival: Fort Myers Beach Lions - ECPv6.15.20//NONSGML v1.0//EN
CALSCALE:GREGORIAN
METHOD:PUBLISH
X-ORIGINAL-URL:https://fortmyersbeachshrimpfestival.com
X-WR-CALDESC:Events for Shrimp Festival: Fort Myers Beach Lions
REFRESH-INTERVAL;VALUE=DURATION:PT1H
X-Robots-Tag:noindex
X-PUBLISHED-TTL:PT1H
BEGIN:VTIMEZONE
TZID:America/New_York
BEGIN:DAYLIGHT
TZOFFSETFROM:-0500
TZOFFSETTO:-0400
TZNAME:EDT
DTSTART:20250309T070000
END:DAYLIGHT
BEGIN:STANDARD
TZOFFSETFROM:-0400
TZOFFSETTO:-0500
TZNAME:EST
DTSTART:20251102T060000
END:STANDARD
BEGIN:DAYLIGHT
TZOFFSETFROM:-0500
TZOFFSETTO:-0400
TZNAME:EDT
DTSTART:20260308T070000
END:DAYLIGHT
BEGIN:STANDARD
TZOFFSETFROM:-0400
TZOFFSETTO:-0500
TZNAME:EST
DTSTART:20261101T060000
END:STANDARD
BEGIN:DAYLIGHT
TZOFFSETFROM:-0500
TZOFFSETTO:-0400
TZNAME:EDT
DTSTART:20270314T070000
END:DAYLIGHT
BEGIN:STANDARD
TZOFFSETFROM:-0400
TZOFFSETTO:-0500
TZNAME:EST
DTSTART:20271107T060000
END:STANDARD
BEGIN:DAYLIGHT
TZOFFSETFROM:-0500
TZOFFSETTO:-0400
TZNAME:EDT
DTSTART:20280312T070000
END:DAYLIGHT
BEGIN:STANDARD
TZOFFSETFROM:-0400
TZOFFSETTO:-0500
TZNAME:EST
DTSTART:20281105T060000
END:STANDARD
END:VTIMEZONE
BEGIN:VEVENT
DTSTART;TZID=America/New_York:20260228T080000
DTEND;TZID=America/New_York:20260228T120000
DTSTAMP:20260424T234112
CREATED:20171220T013548Z
LAST-MODIFIED:20260225T215349Z
UID:920-1772265600-1772280000@fortmyersbeachshrimpfestival.com
SUMMARY:2/28\, Kids Shrimp Run
DESCRIPTION:[vc_row][vc_column][vc_column_text] \n👟🌞 SHRIMP FESTIVAL KIDS RUN 🦐🌴\nKick off Shrimp Festival season with a fun\, feel-good fitness event just for kids! The Shrimp Festival Kids Run invites young runners in grades K–5 to take on a ½-mile out-and-back beach race at Crescent Beach Family Park\, where festival excitement\, island spirit\, and sandy smiles set the tone for the celebration ahead. \n🌴 Big Fun for Little RunnersEach grade will run in staggered starts beginning with 5th grade\, giving every child their moment to shine. The first 100 runners receive a free t-shirt and a free lunch at the Awards Ceremony — making this more than a race… it’s a core memory in the making. \n🎉 Awards\, Entertainment & Special GuestsAfter the run\, families are invited to celebrate at Sunset Terrace\, Margaritaville from 10:00 AM to 12:00 PM\, featuring awards\, live entertainment\, and appearances from The Bird Gardens of Naples and the Suncoast Pirates. Lunch will be served at 11:00 AM for qualifying participants. \n📌 Event DetailsCheck-in begins at 8:00 AM and the race starts at 8:30 AM. Online registration is now open. This event is proudly operated by Cypress Lake High School in partnership with the Fort Myers Beach Lions Shrimp Festival. \n🌺 Big smiles. Sandy shoes. Festival memories in the making. 🌺 \n[/vc_column_text][/vc_column][/vc_row]
URL:https://fortmyersbeachshrimpfestival.com/event/kids-shrimp-run/
CATEGORIES:Pre-festival Events
ATTACH;FMTTYPE=image/jpeg:https://fortmyersbeachshrimpfestival.com/wp-content/uploads/2017/12/17352081_885742291581116_4621106199655025796_n.jpg
ORGANIZER;CN="Betty Rodriguez":MAILTO:BettyR@leeschools.net
END:VEVENT
BEGIN:VEVENT
DTSTART;TZID=America/New_York:20260314T100000
DTEND;TZID=America/New_York:20260314T120000
DTSTAMP:20260424T234112
CREATED:20160630T164701Z
LAST-MODIFIED:20260309T173418Z
UID:621-1773482400-1773489600@fortmyersbeachshrimpfestival.com
SUMMARY:Parade
DESCRIPTION:[vc_row][vc_column][vc_column_text] \n🥁🦐 SHRIMP FESTIVAL PARADE 🌴🌞\nGet ready for marching bands\, floats\, princesses\, costumes\, community groups\, island energy\, and unforgettable festival spirit! The Fort Myers Beach Shrimp Festival Parade stretches approximately 2 miles down Estero Boulevard\, beginning at the Beach Elementary School parade loading zone and rolling all the way to the base of Matanzas Bridge on the beach side. All parade entrants are automatically part of our official Shrimp Festival Parade Competition\, with trophies awarded for the most outstanding entries in each category — so expect floats that go all-out! \n📣 Arrive Early — The Bridge Closes at 9:00 AMParade-goers line both sides of Estero Blvd to cheer\, wave\, dance\, and catch goodies tossed from the floats. From the Shrimp Festival Princesses to local performers and colorful parade units\, this iconic march brings the community together in one joyful\, high-energy celebration of Fort Myers Beach tradition. \n🎡 Keep the Fun Going After the ParadeWhen the final float rolls through\, the celebration continues at Shrimp Festival headquarters just steps away on Old San Carlos Blvd & Third Street. Shop for the Official Fort Myers Beach Lions Shrimp Festival T-Shirts\, browse handmade treasures at the Arts & Crafts Fair\, and enjoy the festival atmosphere.  \n🌺 Parade\, festival\, shopping\, Pink Gold shrimp\, sunshine — this is Fort Myers Beach at its finest. Join us as we celebrate community\, creativity\, and one of the island’s longest-running traditions. \n[/vc_column_text][/vc_column][/vc_row][vc_row][vc_column width=”1/3″][vc_btn title=”Click Here to Apply to be in the Parade” color=”warning” link=”url:https%3A%2F%2Ffortmyersbeachshrimpfestival.com%2Fshrimp-festival-parade-application%2F|title:Shrimp%20Festival%20Parade%20Application”][/vc_column][vc_column width=”1/3″][/vc_column][vc_column width=”1/3″][vc_btn title=”Click Here to WATCH the Parade LIVE” color=”pink” link=”url:https%3A%2F%2Fwww.facebook.com%2Fbeachtalkradio|title:Shrimp%20Festival%20Parade%3A%20LIVE”][/vc_column][/vc_row]
URL:https://fortmyersbeachshrimpfestival.com/event/parade/
LOCATION:Estero Blvd.\, Estero Blvd\, Fort Myers Beach\, FL\, 33931\, United States
CATEGORIES:Day 1
ATTACH;FMTTYPE=image/jpeg:https://fortmyersbeachshrimpfestival.com/wp-content/uploads/2016/06/shrimp-festival-parade-fort-myers-beach-lions-29.jpg
ORGANIZER;CN="Lion Diane":MAILTO:dlc1349@comcast.net
END:VEVENT
BEGIN:VEVENT
DTSTART;TZID=America/New_York:20260315T100000
DTEND;TZID=America/New_York:20260315T130000
DTSTAMP:20260424T234112
CREATED:20240127T161323Z
LAST-MODIFIED:20260309T172352Z
UID:5908-1773568800-1773579600@fortmyersbeachshrimpfestival.com
SUMMARY:Blessing of the Fleet
DESCRIPTION:[vc_row][vc_column][vc_column_text] \nHistoric Blessing of the Fleet\, Sunday Service\n Join Saint Raphael’s Episcopal Church & the Fort Myers Beach Shrimping Fleet for a traditional Sunday mass service followed by the historic blessing of the fleet.\n[/vc_column_text][vc_custom_heading text=”Order of events:” font_container=”tag:h2|text_align:left|color:%2381d742″ google_fonts=”font_family:Henny%20Penny%3Aregular|font_style:400%20regular%3A400%3Anormal”][vc_column_text]Once again\, St. Raphael’s Church will be involved in the Blessing of the Fleet on March 15\, 2026. This is a religious ceremony rooted in the maritime tradition of praying for the safety of the crews\, a bountiful season\, and protection over the boats and the industry. The Blessing begins at 10 AM with a service on the shrimp docks which includes prayers\, songs\, and readings. After the service\, the Bishop will walk along the docks and individually bless each boat with holy water. \nWhat began as a simple blessing in the late 1950s evolved over the decades into the Fort Myers Beach Shrimp Festival — a much larger\, two-day community celebration that still features the Blessing of the Fleet as a key event each March. \nThis year\, the Blessing is scheduled for a week after the Shrimp Festival and will include an opportunity for all watercraft to receive a Blessing. After blessing the docked shrimp boats\, the Bishop will board a private vessel and will bless any private or commercial craft that drives by. The Bishop’s boat will be in the area around the bridge. We encourage all boaters to come out\, receive a blessing\, and enjoy the beautiful waters surrounding our island.[/vc_column_text][/vc_column][/vc_row]
URL:https://fortmyersbeachshrimpfestival.com/event/blessing-of-the-fleet/
LOCATION:Blessing of the Fleet\, 1100 Shrimp Boat Lane\, Fort Myers Beach\, FL\, 33931\, United States
CATEGORIES:Day 2
ATTACH;FMTTYPE=image/jpeg:https://fortmyersbeachshrimpfestival.com/wp-content/uploads/2022/02/fmb-blessing-of-the-fleet-1.jpeg
ORGANIZER;CN="Lion Anna Erickson":MAILTO:ericksonandjensenshrimpsales@gmail.com
END:VEVENT
BEGIN:VEVENT
DTSTART;TZID=America/New_York:20270313T090000
DTEND;TZID=America/New_York:20270313T100000
DTSTAMP:20260424T234112
CREATED:20160616T183304Z
LAST-MODIFIED:20260309T173654Z
UID:295-1804928400-1804932000@fortmyersbeachshrimpfestival.com
SUMMARY:5K Run
DESCRIPTION:[vc_row][vc_column][vc_column_text] \n🏃‍♀️🌞 SHRIMP FESTIVAL 5K 🦐🌴\nFeel the thrill of the Fort Myers Beach Shrimp Festival 5K\, where runners and walkers take on a scenic coastal course beginning and ending at the iconic Doc Ford’s Rum Bar & Grille. This beloved island tradition welcomes athletes of all levels — from competitive racers to fun-run families — coming together for sunshine\, salt air\, community pride\, and festival-weekend excitement. \n🌴 Island Course\, Iconic FinishRace along our beautiful shoreline surrounded by cheering spectators\, Gulf breezes\, music\, and nonstop energy from start to finish. With expanded age divisions and an electric beachside atmosphere\, this year promises unforgettable moments\, friendly competition\, and plenty of island spirit at the finish line. \n👟 Festival Fitness WeekendThe celebration continues for families with our official Kids Run kickoff event held before the 5K. Young runners get their own special moment to shine — learn more here . \n📌 Registration & DetailsStay tuned for the 2027 5K registration link. For questions or race information\, please contact Race Chair Betty Rodriguez by email. \n🌺 Run the beach. Feel the breeze. Celebrate the tradition. 🌺 \n[/vc_column_text][vc_single_image image=”5496″ img_size=”large” alignment=”center” title=”5K Route”][/vc_column][/vc_row]
URL:https://fortmyersbeachshrimpfestival.com/event/5k-run/
LOCATION:Doc Fords\, 708 Fishermans Wharf\, Fort Myers Beach\, FL\, 33931\, United States
CATEGORIES:Day 1
ATTACH;FMTTYPE=image/png:https://fortmyersbeachshrimpfestival.com/wp-content/uploads/2016/06/shrimp-festival-5k-run-route.png
ORGANIZER;CN="Betty Rodriguez":MAILTO:BettyR@leeschools.net
END:VEVENT
BEGIN:VEVENT
DTSTART;TZID=America/New_York:20270313T100000
DTEND;TZID=America/New_York:20270314T170000
DTSTAMP:20260424T234112
CREATED:20170630T164234Z
LAST-MODIFIED:20260309T173050Z
UID:618-1804932000-1805043600@fortmyersbeachshrimpfestival.com
SUMMARY:Arts & Crafts Fair
DESCRIPTION:[vc_row][vc_column][vc_column_text] \n🎨🌴 SHRIMP FESTIVAL ARTS & CRAFTS FAIR 🌞🦐\nThe Fort Myers Beach Lions Shrimp Festival Arts & Crafts Fair is officially back — bursting with color\, creativity\, community\, and coastal charm! Shop your favorite returning vendors and discover talented new artisans from all across the country as this beloved 60+ year island tradition makes its historic return to Fort Myers Beach. \n📍 New Waterfront Location: Old San Carlos Blvd.\, between 1st Street and 3rd Street — the perfect place for sunshine strolling\, shrimp-festival shopping\, and island vibes along the sparkling shoreline of San Carlos Bay. \n🛍️ What You’ll Find:Handmade goods\, coastal art\, beach décor\, jewelry\, artisan treasures\, local creations\, and the must-have collectible of the weekend — the Official Lions Club Shrimp Festival T-Shirt. \n✨ Wander the waterfront. Meet the makers. Savor the salty air. Celebrate the comeback of a tradition that has been part of Fort Myers Beach for generations. \n📌 Vendor Information:To apply for the 2027 Arts & Crafts Expo\, please follow the application link below. For questions or assistance\, contact Expo Chair Lion Diane at (239) 634-3887. \n🌺 Be part of the story. Be part of the tradition. Be part of the return. 🌺 \n[/vc_column_text][/vc_column][/vc_row]
URL:https://fortmyersbeachshrimpfestival.com/event/art-fair-food-expo/
LOCATION:Old San Carlos Blvd. & Third Street\, Old San Carlos Blvd. & Third Street\, Fort Myers Beach\, 33931\, United States
CATEGORIES:Day 1,Day 2
ATTACH;FMTTYPE=image/jpeg:https://fortmyersbeachshrimpfestival.com/wp-content/uploads/2016/06/fort-myers-beach-shrimp-festival-2-e1550775393429.jpg
ORGANIZER;CN="Lion Diane":MAILTO:dlc1349@comcast.net
END:VEVENT
BEGIN:VEVENT
DTSTART;TZID=America/New_York:20270313T100000
DTEND;TZID=America/New_York:20270314T170000
DTSTAMP:20260424T234112
CREATED:20171220T022849Z
LAST-MODIFIED:20260309T172903Z
UID:929-1804932000-1805043600@fortmyersbeachshrimpfestival.com
SUMMARY:Pink Gold Shrimp Boil
DESCRIPTION:[vc_row][vc_column][vc_column_text] \n🦐 Shrimp Festival Shrimp Boil 🌞Join us for one of Fort Myers Beach’s most anticipated traditions of the weekend — the Shrimp Festival Shrimp Boil\, proudly hosted by the Fort Myers Beach Lions Club. This family-friendly coastal celebration features freshly prepared shrimp\, classic southern sides\, and lively island entertainment that brings locals and visitors together year after year. \n🎟️ TicketsYour Shrimp Boil ticket includes a generous serving of locally-prepared shrimp and festival-favorite fixings\, with proceeds supporting the Lions Club’s community programs\, vision services\, and scholarships. Seating is first-come\, first-served\, and guests are encouraged to arrive early for the best dining times and shortest lines. \n🍤 Menu & ExperienceEnjoy hot shrimp right off the boil\, paired with traditional sides and all the flavor you expect from Southwest Florida’s signature seafood weekend. This year’s Shrimp Boil also features live music at Bayside Park to set the Beach tone and keep the energy upbeat while you dine\, laugh\, and enjoy the festival atmosphere with family and friends. \n🍺 New This Year: Beer TentFor the first time in pageant and festival history\, guests can enjoy beverages from our official Beer Tent\, adding an exciting new layer of fun to this beloved community event. Alcohol will only be served to guests 21+\, with ID required. \n💛 Community ImpactEvery plate served helps fund the Fort Myers Beach Lions Club’s mission\, supporting local families through sight and hearing programs\, scholarships\, and ongoing service efforts throughout the year. When you enjoy the Shrimp Boil\, you are directly giving back to the very community you love. \n🌴 Gratitude to Our SponsorsSpecial thanks to the Alex King Group and the King Family Foundation for presenting this event and helping continue the legacy of the Shrimp Festival on Fort Myers Beach! \n🦀 Be part of the flavor. Be part of the music. Be part of the tradition. Bring your appetite and your island spirit as we kick off an unforgettable Shrimp Festival weekend together. \n[/vc_column_text][vc_single_image image=”6474″ img_size=”medium” alignment=”center” style=”vc_box_shadow_3d”][vc_empty_space][/vc_column][/vc_row][vc_row equal_height=”yes” content_placement=”middle”][vc_column width=”1/4″][vc_empty_space][vc_single_image image=”5324″ img_size=”medium” alignment=”center” style=”vc_box_shadow_3d”][/vc_column][vc_column width=”1/4″][vc_single_image image=”5327″ img_size=”medium” alignment=”center” style=”vc_box_shadow_3d”][/vc_column][vc_column width=”1/4″][vc_empty_space][vc_single_image image=”5326″ img_size=”medium” alignment=”center” style=”vc_box_shadow_3d”][/vc_column][vc_column width=”1/4″][vc_empty_space height=”64px”][vc_single_image image=”5328″ img_size=”medium” alignment=”center” style=”vc_box_shadow_3d”][/vc_column][/vc_row]
URL:https://fortmyersbeachshrimpfestival.com/event/pink-gold-shrimp-boil/
LOCATION:Old San Carlos Blvd. & Third Street\, Old San Carlos Blvd. & Third Street\, Fort Myers Beach\, 33931\, United States
CATEGORIES:Day 1,Day 2
ATTACH;FMTTYPE=image/jpeg:https://fortmyersbeachshrimpfestival.com/wp-content/uploads/2016/06/fort-myers-beach-shrimp-festival-5-e1549916135915.jpg
END:VEVENT
BEGIN:VEVENT
DTSTART;TZID=America/New_York:20270313T130000
DTEND;TZID=America/New_York:20270313T140000
DTSTAMP:20260424T234112
CREATED:20160630T163909Z
LAST-MODIFIED:20260309T172727Z
UID:616-1804942800-1804946400@fortmyersbeachshrimpfestival.com
SUMMARY:Queens Pageant
DESCRIPTION:[vc_row][vc_column][vc_column_text] \n🦐 FORT MYERS BEACH SHRIMP FESTIVAL PAGEANT 🌞\nA 60+ year island legacy of sparkle\, sisterhood\, and service—and YOU could be the next Shrimp Festival Queen! Open to contestants ages 15–20. \n📅 Festival Weekend: Saturday\, March 13th\, 2027📍 Location: Fort Myers Beach\, FL👜 Perks: Special gift bag + 25 community service hours💚 Purpose: Your participation helps fund the Fort Myers Beach Lions Club sight\, scholarship\, and community projects \n🏆 TITLES & AWARDS \n\n\n\n\n👑 Queen \n\n\n🥇 1st Runner-Up \n\n\n🥈 2nd Runner-Up \n\n\n😊 Miss Personality \n\n\n🌟 Miss People’s Choice (public donations decide!) \n\n\n🤝 Miss Congeniality (chosen by contestants) \n\n\n📸 Miss Photogenic (official photo judging) \n\n\n\n\n✨ Why It’s SpecialFor over six decades\, this pageant has brought families\, visitors\, and former contestants back year after year. Every participant makes history\, makes friends\, and makes a difference. \n📩 JOIN THE MAGIC \n🌴 Apply to Compete \n🌊 Sponsor a Contestant \n📞 Contact: Lara Stam (details below) \n🌺 Give back. Dress up. Stand out. Be part of a true Fort Myers Beach tradition. 🌺 \n[/vc_column_text][/vc_column][/vc_row]
URL:https://fortmyersbeachshrimpfestival.com/event/queens-pageant/
LOCATION:Bayside Park\, 1131 First Street\, Fort Myers Beach\, FL\, 33931\, United States
CATEGORIES:Day 1
ATTACH;FMTTYPE=image/jpeg:https://fortmyersbeachshrimpfestival.com/wp-content/uploads/2016/06/2025-SHRIMP-FESTIVAL-QUEEN-EMMA-STAM.jpg
ORGANIZER;CN="Lion Lara":MAILTO:stam7co@gmail.com
END:VEVENT
BEGIN:VEVENT
DTSTART;TZID=America/New_York:20270314T130000
DTEND;TZID=America/New_York:20270314T140000
DTSTAMP:20260424T234112
CREATED:20160630T163616Z
LAST-MODIFIED:20260309T172609Z
UID:614-1805029200-1805032800@fortmyersbeachshrimpfestival.com
SUMMARY:Shrimp Eating Contest
DESCRIPTION:The Fort Myers Beach Lions Club has announced the return of their most “fulfilling” addition to their world-famous annual event\, the Annual Shrimp Festival Shrimp Eating Championship. \nThe contest will feature up to 10 sponsored contestants who will compete to eat as many pounds of cooked and peeled Ft. Myers Beach Pink Gold Shrimp within 8 minutes. Contestants will be aided by assistants who will divvy out the shrimp to them in pre-weighed portions. Whoever eats the most within the eight minutes wins! Also up for grabs is “People’s Choice.” This ranking is won by collecting online donations from supporters for the contestant with their vote to win. \nHave you cameras and video recorders going! You won’t believe your eyes. Cheer on your favorite. This Championship has become an Island tradition. Will the reigning champion\, King Daniel\, with a 3.2lb’s in 8min record return to compete and defend his title or will a new champ gobble up the competition? Come out and support fan favorites such as Snack Jack as they shovel local Pink Gold down and raise money for the Lions charities of those in need. \nShrimp will be provided by the Ft. Myers Beach Shrimping Fleet and graciously sponsored by Erickson & Jensen. “No entrant will go away hungry” said event chair\, Lion Shelby\, “And sponsors will be recognized for their support of Lions charities!” \n If you would like to participate as a contestant\, click HERE.
URL:https://fortmyersbeachshrimpfestival.com/event/shrimp-eating-contest/
LOCATION:Bayside Park\, 1131 First Street\, Fort Myers Beach\, FL\, 33931\, United States
CATEGORIES:Day 2
ATTACH;FMTTYPE=image/jpeg:https://fortmyersbeachshrimpfestival.com/wp-content/uploads/2016/06/fmb-shrimp-eating-contest-2022-e1706323652560.jpeg
END:VEVENT
END:VCALENDAR